BEGIN:VCALENDAR
VERSION:2.0
PRODID:-//paulafuerstschule.de - ECPv6.15.18//NONSGML v1.0//EN
CALSCALE:GREGORIAN
METHOD:PUBLISH
X-ORIGINAL-URL:https://paulafuerstschule.de
X-WR-CALDESC:Veranstaltungen für paulafuerstschule.de
REFRESH-INTERVAL;VALUE=DURATION:PT1H
X-Robots-Tag:noindex
X-PUBLISHED-TTL:PT1H
BEGIN:VTIMEZONE
TZID:Europe/Berlin
BEGIN:DAYLIGHT
TZOFFSETFROM:+0100
TZOFFSETTO:+0200
TZNAME:CEST
DTSTART:20240331T010000
END:DAYLIGHT
BEGIN:STANDARD
TZOFFSETFROM:+0200
TZOFFSETTO:+0100
TZNAME:CET
DTSTART:20241027T010000
END:STANDARD
BEGIN:DAYLIGHT
TZOFFSETFROM:+0100
TZOFFSETTO:+0200
TZNAME:CEST
DTSTART:20250330T010000
END:DAYLIGHT
BEGIN:STANDARD
TZOFFSETFROM:+0200
TZOFFSETTO:+0100
TZNAME:CET
DTSTART:20251026T010000
END:STANDARD
BEGIN:DAYLIGHT
TZOFFSETFROM:+0100
TZOFFSETTO:+0200
TZNAME:CEST
DTSTART:20260329T010000
END:DAYLIGHT
BEGIN:STANDARD
TZOFFSETFROM:+0200
TZOFFSETTO:+0100
TZNAME:CET
DTSTART:20261025T010000
END:STANDARD
END:VTIMEZONE
BEGIN:VEVENT
DTSTART;TZID=Europe/Berlin:20250912T000000
DTEND;TZID=Europe/Berlin:20250912T000000
DTSTAMP:20260420T122039
CREATED:20240908T113548Z
LAST-MODIFIED:20240908T113548Z
UID:16786-1757635200-1757635200@paulafuerstschule.de
SUMMARY:erste GLK 2025/26
DESCRIPTION:
URL:https://paulafuerstschule.de/event/erste-glk-2025-26/
LOCATION:PFS
END:VEVENT
BEGIN:VEVENT
DTSTART;TZID=Europe/Berlin:20250919T104500
DTEND;TZID=Europe/Berlin:20250919T120000
DTSTAMP:20260420T122039
CREATED:20250921T105912Z
LAST-MODIFIED:20250921T105912Z
UID:19369-1758278700-1758283200@paulafuerstschule.de
SUMMARY:Einschulungsfeier
DESCRIPTION:
URL:https://paulafuerstschule.de/event/einschulungsfeier-2/
LOCATION:PFS
END:VEVENT
BEGIN:VEVENT
DTSTART;VALUE=DATE:20250922
DTEND;VALUE=DATE:20250923
DTSTAMP:20260420T122039
CREATED:20250921T110045Z
LAST-MODIFIED:20250921T110045Z
UID:19371-1758499200-1758585599@paulafuerstschule.de
SUMMARY:Fussballturnier Lauffen
DESCRIPTION:
URL:https://paulafuerstschule.de/event/fussballturnier-lauffen/
END:VEVENT
BEGIN:VEVENT
DTSTART;TZID=Europe/Berlin:20250929T140000
DTEND;TZID=Europe/Berlin:20250929T153000
DTSTAMP:20260420T122039
CREATED:20250921T110145Z
LAST-MODIFIED:20250921T110145Z
UID:19373-1759154400-1759159800@paulafuerstschule.de
SUMMARY:Apfelfest
DESCRIPTION:
URL:https://paulafuerstschule.de/event/apfelfest/
LOCATION:PFS
END:VEVENT
BEGIN:VEVENT
DTSTART;VALUE=DATE:20250930
DTEND;VALUE=DATE:20251001
DTSTAMP:20260420T122039
CREATED:20250921T110251Z
LAST-MODIFIED:20250921T110251Z
UID:19375-1759190400-1759276799@paulafuerstschule.de
SUMMARY:Aktionstag Zähne I
DESCRIPTION:
URL:https://paulafuerstschule.de/event/aktionstag-zaehne-i/
LOCATION:PFS
END:VEVENT
END:VCALENDAR