BEGIN:VCALENDAR
VERSION:2.0
PRODID:-//paulafuerstschule.de - ECPv6.15.18//NONSGML v1.0//EN
CALSCALE:GREGORIAN
METHOD:PUBLISH
X-ORIGINAL-URL:https://paulafuerstschule.de
X-WR-CALDESC:Veranstaltungen für paulafuerstschule.de
REFRESH-INTERVAL;VALUE=DURATION:PT1H
X-Robots-Tag:noindex
X-PUBLISHED-TTL:PT1H
BEGIN:VTIMEZONE
TZID:Europe/Berlin
BEGIN:DAYLIGHT
TZOFFSETFROM:+0100
TZOFFSETTO:+0200
TZNAME:CEST
DTSTART:20240331T010000
END:DAYLIGHT
BEGIN:STANDARD
TZOFFSETFROM:+0200
TZOFFSETTO:+0100
TZNAME:CET
DTSTART:20241027T010000
END:STANDARD
BEGIN:DAYLIGHT
TZOFFSETFROM:+0100
TZOFFSETTO:+0200
TZNAME:CEST
DTSTART:20250330T010000
END:DAYLIGHT
BEGIN:STANDARD
TZOFFSETFROM:+0200
TZOFFSETTO:+0100
TZNAME:CET
DTSTART:20251026T010000
END:STANDARD
BEGIN:DAYLIGHT
TZOFFSETFROM:+0100
TZOFFSETTO:+0200
TZNAME:CEST
DTSTART:20260329T010000
END:DAYLIGHT
BEGIN:STANDARD
TZOFFSETFROM:+0200
TZOFFSETTO:+0100
TZNAME:CET
DTSTART:20261025T010000
END:STANDARD
END:VTIMEZONE
BEGIN:VEVENT
DTSTART;TZID=Europe/Berlin:20250602T083000
DTEND;TZID=Europe/Berlin:20250606T120000
DTSTAMP:20260420T162050
CREATED:20240908T112641Z
LAST-MODIFIED:20240908T112641Z
UID:16770-1748853000-1749211200@paulafuerstschule.de
SUMMARY:Projektwoche
DESCRIPTION:
URL:https://paulafuerstschule.de/event/projektwoche-2/
LOCATION:PFS
END:VEVENT
BEGIN:VEVENT
DTSTART;TZID=Europe/Berlin:20250623T083000
DTEND;TZID=Europe/Berlin:20250627T120000
DTSTAMP:20260420T162050
CREATED:20240908T112756Z
LAST-MODIFIED:20240908T112756Z
UID:16772-1750667400-1751025600@paulafuerstschule.de
SUMMARY:Fred-Feuerstein-Woche
DESCRIPTION:
URL:https://paulafuerstschule.de/event/fred-feuerstein-woche-2/
LOCATION:PFS
END:VEVENT
BEGIN:VEVENT
DTSTART;TZID=Europe/Berlin:20250626T083000
DTEND;TZID=Europe/Berlin:20250626T133000
DTSTAMP:20260420T162050
CREATED:20240908T112902Z
LAST-MODIFIED:20240908T112902Z
UID:16774-1750926600-1750944600@paulafuerstschule.de
SUMMARY:Sporttag
DESCRIPTION:
URL:https://paulafuerstschule.de/event/sporttag-2/
LOCATION:PFS
END:VEVENT
END:VCALENDAR