BEGIN:VCALENDAR
VERSION:2.0
PRODID:-//paulafuerstschule.de - ECPv6.15.18//NONSGML v1.0//EN
CALSCALE:GREGORIAN
METHOD:PUBLISH
X-ORIGINAL-URL:https://paulafuerstschule.de
X-WR-CALDESC:Veranstaltungen für paulafuerstschule.de
REFRESH-INTERVAL;VALUE=DURATION:PT1H
X-Robots-Tag:noindex
X-PUBLISHED-TTL:PT1H
BEGIN:VTIMEZONE
TZID:Europe/Berlin
BEGIN:DAYLIGHT
TZOFFSETFROM:+0100
TZOFFSETTO:+0200
TZNAME:CEST
DTSTART:20240331T010000
END:DAYLIGHT
BEGIN:STANDARD
TZOFFSETFROM:+0200
TZOFFSETTO:+0100
TZNAME:CET
DTSTART:20241027T010000
END:STANDARD
BEGIN:DAYLIGHT
TZOFFSETFROM:+0100
TZOFFSETTO:+0200
TZNAME:CEST
DTSTART:20250330T010000
END:DAYLIGHT
BEGIN:STANDARD
TZOFFSETFROM:+0200
TZOFFSETTO:+0100
TZNAME:CET
DTSTART:20251026T010000
END:STANDARD
BEGIN:DAYLIGHT
TZOFFSETFROM:+0100
TZOFFSETTO:+0200
TZNAME:CEST
DTSTART:20260329T010000
END:DAYLIGHT
BEGIN:STANDARD
TZOFFSETFROM:+0200
TZOFFSETTO:+0100
TZNAME:CET
DTSTART:20261025T010000
END:STANDARD
END:VTIMEZONE
BEGIN:VEVENT
DTSTART;TZID=Europe/Berlin:20250206T140000
DTEND;TZID=Europe/Berlin:20250206T140000
DTSTAMP:20260424T102957
CREATED:20240908T111517Z
LAST-MODIFIED:20240908T111517Z
UID:16748-1738850400-1738850400@paulafuerstschule.de
SUMMARY:Elternsprechtag
DESCRIPTION:
URL:https://paulafuerstschule.de/event/elternsprechtag/
LOCATION:PFS
END:VEVENT
BEGIN:VEVENT
DTSTART;TZID=Europe/Berlin:20250212T190000
DTEND;TZID=Europe/Berlin:20250212T190000
DTSTAMP:20260424T102957
CREATED:20240908T111606Z
LAST-MODIFIED:20240908T111606Z
UID:16750-1739386800-1739386800@paulafuerstschule.de
SUMMARY:Elternbeiratssitzung
DESCRIPTION:
URL:https://paulafuerstschule.de/event/elternbeiratssitzung-2/
END:VEVENT
BEGIN:VEVENT
DTSTART;TZID=Europe/Berlin:20250213T134500
DTEND;TZID=Europe/Berlin:20250213T134500
DTSTAMP:20260424T102957
CREATED:20250129T211806Z
LAST-MODIFIED:20250129T211806Z
UID:17615-1739454300-1739454300@paulafuerstschule.de
SUMMARY:GLK
DESCRIPTION:Ersatztermin für die verschobene GLK am 20.02.
URL:https://paulafuerstschule.de/event/glk-9/
LOCATION:PFS
END:VEVENT
BEGIN:VEVENT
DTSTART;TZID=Europe/Berlin:20250220T134500
DTEND;TZID=Europe/Berlin:20250220T134500
DTSTAMP:20260424T102957
CREATED:20240908T111653Z
LAST-MODIFIED:20250129T211548Z
UID:16752-1740059100-1740059100@paulafuerstschule.de
SUMMARY:GLK verschoben!
DESCRIPTION:vorverlegt auf 13.02.
URL:https://paulafuerstschule.de/event/glk-6/
LOCATION:PFS
END:VEVENT
BEGIN:VEVENT
DTSTART;TZID=Europe/Berlin:20250228T083000
DTEND;TZID=Europe/Berlin:20250228T120000
DTSTAMP:20260424T102957
CREATED:20240908T111756Z
LAST-MODIFIED:20240908T111756Z
UID:16754-1740731400-1740744000@paulafuerstschule.de
SUMMARY:Faschingsfeier
DESCRIPTION:
URL:https://paulafuerstschule.de/event/faschingsfeier/
LOCATION:PFS
END:VEVENT
END:VCALENDAR