BEGIN:VCALENDAR
VERSION:2.0
PRODID:-//paulafuerstschule.de - ECPv6.15.18//NONSGML v1.0//EN
CALSCALE:GREGORIAN
METHOD:PUBLISH
X-WR-CALNAME:paulafuerstschule.de
X-ORIGINAL-URL:https://paulafuerstschule.de
X-WR-CALDESC:Veranstaltungen für paulafuerstschule.de
REFRESH-INTERVAL;VALUE=DURATION:PT1H
X-Robots-Tag:noindex
X-PUBLISHED-TTL:PT1H
BEGIN:VTIMEZONE
TZID:Europe/Berlin
BEGIN:DAYLIGHT
TZOFFSETFROM:+0100
TZOFFSETTO:+0200
TZNAME:CEST
DTSTART:20240331T010000
END:DAYLIGHT
BEGIN:STANDARD
TZOFFSETFROM:+0200
TZOFFSETTO:+0100
TZNAME:CET
DTSTART:20241027T010000
END:STANDARD
BEGIN:DAYLIGHT
TZOFFSETFROM:+0100
TZOFFSETTO:+0200
TZNAME:CEST
DTSTART:20250330T010000
END:DAYLIGHT
BEGIN:STANDARD
TZOFFSETFROM:+0200
TZOFFSETTO:+0100
TZNAME:CET
DTSTART:20251026T010000
END:STANDARD
BEGIN:DAYLIGHT
TZOFFSETFROM:+0100
TZOFFSETTO:+0200
TZNAME:CEST
DTSTART:20260329T010000
END:DAYLIGHT
BEGIN:STANDARD
TZOFFSETFROM:+0200
TZOFFSETTO:+0100
TZNAME:CET
DTSTART:20261025T010000
END:STANDARD
END:VTIMEZONE
BEGIN:VEVENT
DTSTART;TZID=Europe/Berlin:20250116T000000
DTEND;TZID=Europe/Berlin:20250116T000000
DTSTAMP:20260422T143452
CREATED:20240908T111324Z
LAST-MODIFIED:20240908T111324Z
UID:16744-1736985600-1736985600@paulafuerstschule.de
SUMMARY:Beratungsstellentreffen
DESCRIPTION:
URL:https://paulafuerstschule.de/event/beratungsstellentreffen-2/
END:VEVENT
BEGIN:VEVENT
DTSTART;TZID=Europe/Berlin:20250123T134500
DTEND;TZID=Europe/Berlin:20250123T134500
DTSTAMP:20260422T143452
CREATED:20240908T111412Z
LAST-MODIFIED:20240908T111412Z
UID:16746-1737639900-1737639900@paulafuerstschule.de
SUMMARY:SEK
DESCRIPTION:
URL:https://paulafuerstschule.de/event/sek-2/
LOCATION:PFS
END:VEVENT
END:VCALENDAR