BEGIN:VCALENDAR
VERSION:2.0
PRODID:-//paulafuerstschule.de - ECPv6.15.18//NONSGML v1.0//EN
CALSCALE:GREGORIAN
METHOD:PUBLISH
X-ORIGINAL-URL:https://paulafuerstschule.de
X-WR-CALDESC:Veranstaltungen für paulafuerstschule.de
REFRESH-INTERVAL;VALUE=DURATION:PT1H
X-Robots-Tag:noindex
X-PUBLISHED-TTL:PT1H
BEGIN:VTIMEZONE
TZID:Europe/Berlin
BEGIN:DAYLIGHT
TZOFFSETFROM:+0100
TZOFFSETTO:+0200
TZNAME:CEST
DTSTART:20230326T010000
END:DAYLIGHT
BEGIN:STANDARD
TZOFFSETFROM:+0200
TZOFFSETTO:+0100
TZNAME:CET
DTSTART:20231029T010000
END:STANDARD
BEGIN:DAYLIGHT
TZOFFSETFROM:+0100
TZOFFSETTO:+0200
TZNAME:CEST
DTSTART:20240331T010000
END:DAYLIGHT
BEGIN:STANDARD
TZOFFSETFROM:+0200
TZOFFSETTO:+0100
TZNAME:CET
DTSTART:20241027T010000
END:STANDARD
BEGIN:DAYLIGHT
TZOFFSETFROM:+0100
TZOFFSETTO:+0200
TZNAME:CEST
DTSTART:20250330T010000
END:DAYLIGHT
BEGIN:STANDARD
TZOFFSETFROM:+0200
TZOFFSETTO:+0100
TZNAME:CET
DTSTART:20251026T010000
END:STANDARD
END:VTIMEZONE
BEGIN:VEVENT
DTSTART;TZID=Europe/Berlin:20241112T140000
DTEND;TZID=Europe/Berlin:20241112T153000
DTSTAMP:20260424T121022
CREATED:20240908T110604Z
LAST-MODIFIED:20240908T110604Z
UID:16730-1731420000-1731425400@paulafuerstschule.de
SUMMARY:Café Paula
DESCRIPTION:
URL:https://paulafuerstschule.de/event/cafe-paula-3/
LOCATION:PFS
END:VEVENT
BEGIN:VEVENT
DTSTART;TZID=Europe/Berlin:20241113T190000
DTEND;TZID=Europe/Berlin:20241113T190000
DTSTAMP:20260424T121022
CREATED:20240908T110658Z
LAST-MODIFIED:20240908T110658Z
UID:16732-1731524400-1731524400@paulafuerstschule.de
SUMMARY:Elternbeiratssitzung
DESCRIPTION:
URL:https://paulafuerstschule.de/event/elternbeiratssitzung/
END:VEVENT
BEGIN:VEVENT
DTSTART;TZID=Europe/Berlin:20241121T134500
DTEND;TZID=Europe/Berlin:20241121T134500
DTSTAMP:20260424T121022
CREATED:20240908T110752Z
LAST-MODIFIED:20240908T110752Z
UID:16734-1732196700-1732196700@paulafuerstschule.de
SUMMARY:SEK
DESCRIPTION:
URL:https://paulafuerstschule.de/event/sek/
LOCATION:PFS
END:VEVENT
BEGIN:VEVENT
DTSTART;TZID=Europe/Berlin:20241128T134500
DTEND;TZID=Europe/Berlin:20241128T134500
DTSTAMP:20260424T121022
CREATED:20241016T190001Z
LAST-MODIFIED:20241016T190001Z
UID:16872-1732801500-1732801500@paulafuerstschule.de
SUMMARY:Webinar
DESCRIPTION:
URL:https://paulafuerstschule.de/event/webinar/
LOCATION:PFS
END:VEVENT
BEGIN:VEVENT
DTSTART;TZID=Europe/Berlin:20241128T190000
DTEND;TZID=Europe/Berlin:20241128T190000
DTSTAMP:20260424T121022
CREATED:20240908T110841Z
LAST-MODIFIED:20240908T110841Z
UID:16736-1732820400-1732820400@paulafuerstschule.de
SUMMARY:Schulkonferenz
DESCRIPTION:
URL:https://paulafuerstschule.de/event/schulkonferenz-2/
LOCATION:PFS
END:VEVENT
BEGIN:VEVENT
DTSTART;TZID=Europe/Berlin:20241129T000000
DTEND;TZID=Europe/Berlin:20241129T000000
DTSTAMP:20260424T121022
CREATED:20240908T110957Z
LAST-MODIFIED:20240908T110957Z
UID:16738-1732838400-1732838400@paulafuerstschule.de
SUMMARY:Weihnachtsfeier Mitarbeiter*innen
DESCRIPTION:
URL:https://paulafuerstschule.de/event/weihnachtsfeier-mitarbeiterinnen/
LOCATION:PFS
END:VEVENT
END:VCALENDAR