BEGIN:VCALENDAR
VERSION:2.0
PRODID:-//paulafuerstschule.de - ECPv6.15.18//NONSGML v1.0//EN
CALSCALE:GREGORIAN
METHOD:PUBLISH
X-WR-CALNAME:paulafuerstschule.de
X-ORIGINAL-URL:https://paulafuerstschule.de
X-WR-CALDESC:Veranstaltungen für paulafuerstschule.de
REFRESH-INTERVAL;VALUE=DURATION:PT1H
X-Robots-Tag:noindex
X-PUBLISHED-TTL:PT1H
BEGIN:VTIMEZONE
TZID:Europe/Berlin
BEGIN:DAYLIGHT
TZOFFSETFROM:+0100
TZOFFSETTO:+0200
TZNAME:CEST
DTSTART:20230326T010000
END:DAYLIGHT
BEGIN:STANDARD
TZOFFSETFROM:+0200
TZOFFSETTO:+0100
TZNAME:CET
DTSTART:20231029T010000
END:STANDARD
BEGIN:DAYLIGHT
TZOFFSETFROM:+0100
TZOFFSETTO:+0200
TZNAME:CEST
DTSTART:20240331T010000
END:DAYLIGHT
BEGIN:STANDARD
TZOFFSETFROM:+0200
TZOFFSETTO:+0100
TZNAME:CET
DTSTART:20241027T010000
END:STANDARD
BEGIN:DAYLIGHT
TZOFFSETFROM:+0100
TZOFFSETTO:+0200
TZNAME:CEST
DTSTART:20250330T010000
END:DAYLIGHT
BEGIN:STANDARD
TZOFFSETFROM:+0200
TZOFFSETTO:+0100
TZNAME:CET
DTSTART:20251026T010000
END:STANDARD
END:VTIMEZONE
BEGIN:VEVENT
DTSTART;TZID=Europe/Berlin:20241008T190000
DTEND;TZID=Europe/Berlin:20241008T190000
DTSTAMP:20260424T132516
CREATED:20240908T110049Z
LAST-MODIFIED:20240908T110049Z
UID:16722-1728414000-1728414000@paulafuerstschule.de
SUMMARY:Elternabend
DESCRIPTION:
URL:https://paulafuerstschule.de/event/elternabend/
LOCATION:PFS
END:VEVENT
BEGIN:VEVENT
DTSTART;TZID=Europe/Berlin:20241010T134500
DTEND;TZID=Europe/Berlin:20241010T134500
DTSTAMP:20260424T132516
CREATED:20240908T110233Z
LAST-MODIFIED:20241016T185517Z
UID:16724-1728567900-1728567900@paulafuerstschule.de
SUMMARY:Webinar Whiteboard
DESCRIPTION:verschoben auf 28.11.2024
URL:https://paulafuerstschule.de/event/webinar-whiteboard/
LOCATION:PFS
END:VEVENT
BEGIN:VEVENT
DTSTART;TZID=Europe/Berlin:20241017T134500
DTEND;TZID=Europe/Berlin:20241017T134500
DTSTAMP:20260424T132516
CREATED:20240908T110344Z
LAST-MODIFIED:20240908T110344Z
UID:16726-1729172700-1729172700@paulafuerstschule.de
SUMMARY:GLK
DESCRIPTION:
URL:https://paulafuerstschule.de/event/glk-4/
LOCATION:PFS
END:VEVENT
BEGIN:VEVENT
DTSTART;TZID=Europe/Berlin:20241018T120000
DTEND;TZID=Europe/Berlin:20241018T120000
DTSTAMP:20260424T132516
CREATED:20240908T110458Z
LAST-MODIFIED:20240908T110458Z
UID:16728-1729252800-1729252800@paulafuerstschule.de
SUMMARY:Personalausflug
DESCRIPTION:
URL:https://paulafuerstschule.de/event/personalausflug/
LOCATION:PFS
END:VEVENT
END:VCALENDAR