BEGIN:VCALENDAR
VERSION:2.0
PRODID:-//paulafuerstschule.de - ECPv6.15.18//NONSGML v1.0//EN
CALSCALE:GREGORIAN
METHOD:PUBLISH
X-ORIGINAL-URL:https://paulafuerstschule.de
X-WR-CALDESC:Veranstaltungen für paulafuerstschule.de
REFRESH-INTERVAL;VALUE=DURATION:PT1H
X-Robots-Tag:noindex
X-PUBLISHED-TTL:PT1H
BEGIN:VTIMEZONE
TZID:Europe/Berlin
BEGIN:DAYLIGHT
TZOFFSETFROM:+0100
TZOFFSETTO:+0200
TZNAME:CEST
DTSTART:20230326T010000
END:DAYLIGHT
BEGIN:STANDARD
TZOFFSETFROM:+0200
TZOFFSETTO:+0100
TZNAME:CET
DTSTART:20231029T010000
END:STANDARD
BEGIN:DAYLIGHT
TZOFFSETFROM:+0100
TZOFFSETTO:+0200
TZNAME:CEST
DTSTART:20240331T010000
END:DAYLIGHT
BEGIN:STANDARD
TZOFFSETFROM:+0200
TZOFFSETTO:+0100
TZNAME:CET
DTSTART:20241027T010000
END:STANDARD
BEGIN:DAYLIGHT
TZOFFSETFROM:+0100
TZOFFSETTO:+0200
TZNAME:CEST
DTSTART:20250330T010000
END:DAYLIGHT
BEGIN:STANDARD
TZOFFSETFROM:+0200
TZOFFSETTO:+0100
TZNAME:CET
DTSTART:20251026T010000
END:STANDARD
END:VTIMEZONE
BEGIN:VEVENT
DTSTART;TZID=Europe/Berlin:20240704T134500
DTEND;TZID=Europe/Berlin:20240704T134500
DTSTAMP:20260424T172832
CREATED:20240402T205433Z
LAST-MODIFIED:20240609T194306Z
UID:15805-1720100700-1720100700@paulafuerstschule.de
SUMMARY:GLK
DESCRIPTION:
URL:https://paulafuerstschule.de/event/glk-2/
LOCATION:PFS
END:VEVENT
BEGIN:VEVENT
DTSTART;TZID=Europe/Berlin:20240712T170000
DTEND;TZID=Europe/Berlin:20240712T200000
DTSTAMP:20260424T172832
CREATED:20240402T205616Z
LAST-MODIFIED:20240402T205616Z
UID:15807-1720803600-1720814400@paulafuerstschule.de
SUMMARY:Gartenfest
DESCRIPTION:
URL:https://paulafuerstschule.de/event/gartenfest/
LOCATION:PFS
END:VEVENT
BEGIN:VEVENT
DTSTART;TZID=Europe/Berlin:20240719T103000
DTEND;TZID=Europe/Berlin:20240719T103000
DTSTAMP:20260424T172832
CREATED:20240402T205719Z
LAST-MODIFIED:20240609T194123Z
UID:15809-1721385000-1721385000@paulafuerstschule.de
SUMMARY:Entlassfeier
DESCRIPTION:
URL:https://paulafuerstschule.de/event/entlassfeier/
LOCATION:PFS
END:VEVENT
END:VCALENDAR